BEGIN:VCALENDAR
VERSION:2.0
PRODID:-//Acoustic Union - ECPv6.15.11//NONSGML v1.0//EN
CALSCALE:GREGORIAN
METHOD:PUBLISH
X-ORIGINAL-URL:https://vzhm-music.com
X-WR-CALDESC:Events for Acoustic Union
REFRESH-INTERVAL;VALUE=DURATION:PT1H
X-Robots-Tag:noindex
X-PUBLISHED-TTL:PT1H
BEGIN:VTIMEZONE
TZID:America/New_York
BEGIN:DAYLIGHT
TZOFFSETFROM:-0500
TZOFFSETTO:-0400
TZNAME:EDT
DTSTART:20240310T070000
END:DAYLIGHT
BEGIN:STANDARD
TZOFFSETFROM:-0400
TZOFFSETTO:-0500
TZNAME:EST
DTSTART:20241103T060000
END:STANDARD
BEGIN:DAYLIGHT
TZOFFSETFROM:-0500
TZOFFSETTO:-0400
TZNAME:EDT
DTSTART:20250309T070000
END:DAYLIGHT
BEGIN:STANDARD
TZOFFSETFROM:-0400
TZOFFSETTO:-0500
TZNAME:EST
DTSTART:20251102T060000
END:STANDARD
BEGIN:DAYLIGHT
TZOFFSETFROM:-0500
TZOFFSETTO:-0400
TZNAME:EDT
DTSTART:20260308T070000
END:DAYLIGHT
BEGIN:STANDARD
TZOFFSETFROM:-0400
TZOFFSETTO:-0500
TZNAME:EST
DTSTART:20261101T060000
END:STANDARD
END:VTIMEZONE
BEGIN:VEVENT
DTSTART;TZID=America/New_York:20251220T190000
DTEND;TZID=America/New_York:20251220T210000
DTSTAMP:20260421T071434
CREATED:20250612T173406Z
LAST-MODIFIED:20250612T173406Z
UID:1378-1766257200-1766264400@vzhm-music.com
SUMMARY:Sons Of God MC CoffeeHouse
DESCRIPTION:
URL:https://vzhm-music.com/event/sons-of-god-mc-coffeehouse/
LOCATION:Sons Of God MC Club Coffee House\, 1101 guys run rd.\, Pittsburgh\, PA\, 15238\, United States
END:VEVENT
BEGIN:VEVENT
DTSTART;TZID=America/New_York:20251207T180000
DTEND;TZID=America/New_York:20251207T180000
DTSTAMP:20260421T071434
CREATED:20250828T182624Z
LAST-MODIFIED:20250828T231144Z
UID:1454-1765130400-1765130400@vzhm-music.com
SUMMARY:Wyndham Grand Hotel
DESCRIPTION:Jason Kendall Productions Annual Holiday Show\nFundraising Event for the Greater Pittsburgh Community Food Bank\nhttps://www.jasonkendallproductions.com/
URL:https://vzhm-music.com/event/wyndham-grand-hotel/
LOCATION:Wyndam Grand Hotel\, 600 Commonwealth Pl\, Pittsburgh\, PA\, 15222\, United States
END:VEVENT
BEGIN:VEVENT
DTSTART;TZID=America/New_York:20251120T183000
DTEND;TZID=America/New_York:20251120T213000
DTSTAMP:20260421T071434
CREATED:20250823T183526Z
LAST-MODIFIED:20250823T183526Z
UID:1443-1763663400-1763674200@vzhm-music.com
SUMMARY:Houlihans at The Galleria
DESCRIPTION:
URL:https://vzhm-music.com/event/houlihans-at-the-galleria/
LOCATION:Houlihans Galleria\, 1500 Washington Rd\, Pittburgh\, PA\, 15228\, United States
END:VEVENT
BEGIN:VEVENT
DTSTART;TZID=America/New_York:20251108T180000
DTEND;TZID=America/New_York:20251108T180000
DTSTAMP:20260421T071434
CREATED:20250828T180115Z
LAST-MODIFIED:20250828T180115Z
UID:1450-1762624800-1762624800@vzhm-music.com
SUMMARY:Steamworks
DESCRIPTION:
URL:https://vzhm-music.com/event/steamworks/
LOCATION:Steamworks\, 4967 William Flynn Hwy. (Route 8)\, Gibsonia\, PA\, 15044\, United States
ATTACH;FMTTYPE=image/jpeg:https://vzhm-music.com/wp-content/uploads/2024/01/image000000-5.jpeg
END:VEVENT
BEGIN:VEVENT
DTSTART;TZID=America/New_York:20251107T190000
DTEND;TZID=America/New_York:20251107T190000
DTSTAMP:20260421T071434
CREATED:20250612T172853Z
LAST-MODIFIED:20250612T172853Z
UID:1374-1762542000-1762542000@vzhm-music.com
SUMMARY:Helltown Brewing
DESCRIPTION:
URL:https://vzhm-music.com/event/helltown-brewing/
LOCATION:Helltown Brewing\, 5578 Old William Penn Highway\, Export\, PA\, 15632
END:VEVENT
BEGIN:VEVENT
DTSTART;TZID=America/New_York:20251031T170000
DTEND;TZID=America/New_York:20251031T190000
DTSTAMP:20260421T071434
CREATED:20250823T181442Z
LAST-MODIFIED:20251002T000234Z
UID:1435-1761930000-1761937200@vzhm-music.com
SUMMARY:J Gough's Tavern
DESCRIPTION:
URL:https://vzhm-music.com/event/j-goughs-tavern/
LOCATION:J Gough’s Tavern\, 4213 Murray Ave\, Pittsburgh\, PA\, 15217
ATTACH;FMTTYPE=image/jpeg:https://vzhm-music.com/wp-content/uploads/2025/08/IMG_3341.jpeg
END:VEVENT
BEGIN:VEVENT
DTSTART;TZID=America/New_York:20251010T180000
DTEND;TZID=America/New_York:20251010T180000
DTSTAMP:20260421T071434
CREATED:20250823T183220Z
LAST-MODIFIED:20250823T183220Z
UID:1441-1760119200-1760119200@vzhm-music.com
SUMMARY:LifeWorks Gala
DESCRIPTION:
URL:https://vzhm-music.com/event/lifeworks-gala/
LOCATION:LifesWork Gala\, 414 Morganza Rd\, Cannonsburg\, PA\, 15317
END:VEVENT
BEGIN:VEVENT
DTSTART;TZID=America/New_York:20251003T180000
DTEND;TZID=America/New_York:20251003T200000
DTSTAMP:20260421T071434
CREATED:20250806T030534Z
LAST-MODIFIED:20250806T030534Z
UID:1421-1759514400-1759521600@vzhm-music.com
SUMMARY:Private Party Steamworks
DESCRIPTION:
URL:https://vzhm-music.com/event/private-party-steamworks/
LOCATION:Steamworks\, 4967 William Flynn Hwy. (Route 8)\, Gibsonia\, PA\, 15044\, United States
END:VEVENT
BEGIN:VEVENT
DTSTART;TZID=America/New_York:20251002T170000
DTEND;TZID=America/New_York:20251002T190000
DTSTAMP:20260421T071434
CREATED:20250823T182939Z
LAST-MODIFIED:20250830T225226Z
UID:1438-1759424400-1759431600@vzhm-music.com
SUMMARY:Plum Amphitheater
DESCRIPTION:
URL:https://vzhm-music.com/event/plum-amphitheater/
LOCATION:Plum Borough Amphitheater\, 2000 Mike Thomas Way\, Plum\, PA
ATTACH;FMTTYPE=image/jpeg:https://vzhm-music.com/wp-content/uploads/2025/08/IMG_3255.jpeg
END:VEVENT
BEGIN:VEVENT
DTSTART;TZID=America/New_York:20250923T180000
DTEND;TZID=America/New_York:20250923T190000
DTSTAMP:20260421T071434
CREATED:20240924T210205Z
LAST-MODIFIED:20250818T190244Z
UID:1082-1758650400-1758654000@vzhm-music.com
SUMMARY:Narcisi Winery
DESCRIPTION:Fundraiser for “Team Friends”\nhttps://www.teamfriends.org
URL:https://vzhm-music.com/event/narcisi-winery-2/
LOCATION:Narcisi WInery\, 4578 Gibsonia Rd\, Gibsonia\, PA\, 15044\, United States
ATTACH;FMTTYPE=image/jpeg:https://vzhm-music.com/wp-content/uploads/2024/09/IMG_3209.jpeg
END:VEVENT
BEGIN:VEVENT
DTSTART;TZID=America/New_York:20250916T190000
DTEND;TZID=America/New_York:20250916T200000
DTSTAMP:20260421T071434
CREATED:20250612T171752Z
LAST-MODIFIED:20250909T222114Z
UID:1372-1758049200-1758052800@vzhm-music.com
SUMMARY:Steamworks Creative
DESCRIPTION:
URL:https://vzhm-music.com/event/steamworks-creative/
LOCATION:Steamworks\, 4967 William Flynn Hwy. (Route 8)\, Gibsonia\, PA\, 15044\, United States
ATTACH;FMTTYPE=image/jpeg:https://vzhm-music.com/wp-content/uploads/2025/06/IMG_3292.jpeg
END:VEVENT
BEGIN:VEVENT
DTSTART;TZID=America/New_York:20250912T180000
DTEND;TZID=America/New_York:20250912T200000
DTSTAMP:20260421T071434
CREATED:20250425T180050Z
LAST-MODIFIED:20250806T030301Z
UID:1322-1757700000-1757707200@vzhm-music.com
SUMMARY:Beth Clausen's Porch Party
DESCRIPTION:
URL:https://vzhm-music.com/event/beth-clausens-porch-party/
LOCATION:Beth Claussen’s Porch Concert Series\, 1031 Jancey St
ATTACH;FMTTYPE=image/jpeg:https://vzhm-music.com/wp-content/uploads/2025/04/IMG_2941.jpeg
END:VEVENT
BEGIN:VEVENT
DTSTART;TZID=America/New_York:20250830T120000
DTEND;TZID=America/New_York:20250830T220000
DTSTAMP:20260421T071434
CREATED:20250621T194603Z
LAST-MODIFIED:20250728T145434Z
UID:1383-1756555200-1756591200@vzhm-music.com
SUMMARY:Corbriwoodstock Acoustic Night
DESCRIPTION:https://www.tickettomato.com/event/9578
URL:https://vzhm-music.com/event/corbriwoodstock-acoustic-night/
LOCATION:Steamworks\, 4967 William Flynn Hwy. (Route 8)\, Gibsonia\, PA\, 15044\, United States
ATTACH;FMTTYPE=image/jpeg:https://vzhm-music.com/wp-content/uploads/2025/06/IMG_3128.jpeg
END:VEVENT
BEGIN:VEVENT
DTSTART;TZID=America/New_York:20250823T180000
DTEND;TZID=America/New_York:20250823T180000
DTSTAMP:20260421T071434
CREATED:20250823T183909Z
LAST-MODIFIED:20250823T184714Z
UID:1445-1755972000-1755972000@vzhm-music.com
SUMMARY:Crafthouse
DESCRIPTION:https://www.etix.com/ticket/p/78426904/bill-toms-pittsburgh-crafthouse-stage-grill?clickref=1101lBmkg4qH
URL:https://vzhm-music.com/event/crafthouse/
LOCATION:Crafthouse\, 5024 Curry Rd\, Pittsburgh\, PA\, 15236\, United States
ATTACH;FMTTYPE=image/jpeg:https://vzhm-music.com/wp-content/uploads/2025/08/IMG_8315.jpg
END:VEVENT
BEGIN:VEVENT
DTSTART;TZID=America/New_York:20250822T190000
DTEND;TZID=America/New_York:20250822T210000
DTSTAMP:20260421T071434
CREATED:20250521T230100Z
LAST-MODIFIED:20250714T184439Z
UID:1347-1755889200-1755896400@vzhm-music.com
SUMMARY:Grass Roots Band Jam
DESCRIPTION:Band Jam Ticket Link…\n\nhttps://fb.me/e/ibAOntl8z?mibextid=wwXIfr\n\nEvent Page Link..\nhttps://facebook.com/events/s/the-band-jam-grass-roots-music/974331567530419/
URL:https://vzhm-music.com/event/grass-roots-band-jam/
LOCATION:Coopers Lake Campground\, 205 Currie Rd\, Slippery Rock\, PA\, 16057
ATTACH;FMTTYPE=image/jpeg:https://vzhm-music.com/wp-content/uploads/2025/05/IMG_4949.jpg
END:VEVENT
END:VCALENDAR