BEGIN:VCALENDAR
VERSION:2.0
PRODID:-//Acoustic Union - ECPv6.15.11//NONSGML v1.0//EN
CALSCALE:GREGORIAN
METHOD:PUBLISH
X-ORIGINAL-URL:https://vzhm-music.com
X-WR-CALDESC:Events for Acoustic Union
REFRESH-INTERVAL;VALUE=DURATION:PT1H
X-Robots-Tag:noindex
X-PUBLISHED-TTL:PT1H
BEGIN:VTIMEZONE
TZID:America/New_York
BEGIN:DAYLIGHT
TZOFFSETFROM:-0500
TZOFFSETTO:-0400
TZNAME:EDT
DTSTART:20240310T070000
END:DAYLIGHT
BEGIN:STANDARD
TZOFFSETFROM:-0400
TZOFFSETTO:-0500
TZNAME:EST
DTSTART:20241103T060000
END:STANDARD
BEGIN:DAYLIGHT
TZOFFSETFROM:-0500
TZOFFSETTO:-0400
TZNAME:EDT
DTSTART:20250309T070000
END:DAYLIGHT
BEGIN:STANDARD
TZOFFSETFROM:-0400
TZOFFSETTO:-0500
TZNAME:EST
DTSTART:20251102T060000
END:STANDARD
BEGIN:DAYLIGHT
TZOFFSETFROM:-0500
TZOFFSETTO:-0400
TZNAME:EDT
DTSTART:20260308T070000
END:DAYLIGHT
BEGIN:STANDARD
TZOFFSETFROM:-0400
TZOFFSETTO:-0500
TZNAME:EST
DTSTART:20261101T060000
END:STANDARD
END:VTIMEZONE
BEGIN:VEVENT
DTSTART;TZID=America/New_York:20250916T190000
DTEND;TZID=America/New_York:20250916T200000
DTSTAMP:20260421T083608
CREATED:20250612T171752Z
LAST-MODIFIED:20250909T222114Z
UID:1372-1758049200-1758052800@vzhm-music.com
SUMMARY:Steamworks Creative
DESCRIPTION:
URL:https://vzhm-music.com/event/steamworks-creative/
LOCATION:Steamworks\, 4967 William Flynn Hwy. (Route 8)\, Gibsonia\, PA\, 15044\, United States
ATTACH;FMTTYPE=image/jpeg:https://vzhm-music.com/wp-content/uploads/2025/06/IMG_3292.jpeg
END:VEVENT
BEGIN:VEVENT
DTSTART;TZID=America/New_York:20250912T180000
DTEND;TZID=America/New_York:20250912T200000
DTSTAMP:20260421T083608
CREATED:20250425T180050Z
LAST-MODIFIED:20250806T030301Z
UID:1322-1757700000-1757707200@vzhm-music.com
SUMMARY:Beth Clausen's Porch Party
DESCRIPTION:
URL:https://vzhm-music.com/event/beth-clausens-porch-party/
LOCATION:Beth Claussen’s Porch Concert Series\, 1031 Jancey St
ATTACH;FMTTYPE=image/jpeg:https://vzhm-music.com/wp-content/uploads/2025/04/IMG_2941.jpeg
END:VEVENT
BEGIN:VEVENT
DTSTART;TZID=America/New_York:20250830T120000
DTEND;TZID=America/New_York:20250830T220000
DTSTAMP:20260421T083608
CREATED:20250621T194603Z
LAST-MODIFIED:20250728T145434Z
UID:1383-1756555200-1756591200@vzhm-music.com
SUMMARY:Corbriwoodstock Acoustic Night
DESCRIPTION:https://www.tickettomato.com/event/9578
URL:https://vzhm-music.com/event/corbriwoodstock-acoustic-night/
LOCATION:Steamworks\, 4967 William Flynn Hwy. (Route 8)\, Gibsonia\, PA\, 15044\, United States
ATTACH;FMTTYPE=image/jpeg:https://vzhm-music.com/wp-content/uploads/2025/06/IMG_3128.jpeg
END:VEVENT
BEGIN:VEVENT
DTSTART;TZID=America/New_York:20250823T180000
DTEND;TZID=America/New_York:20250823T180000
DTSTAMP:20260421T083608
CREATED:20250823T183909Z
LAST-MODIFIED:20250823T184714Z
UID:1445-1755972000-1755972000@vzhm-music.com
SUMMARY:Crafthouse
DESCRIPTION:https://www.etix.com/ticket/p/78426904/bill-toms-pittsburgh-crafthouse-stage-grill?clickref=1101lBmkg4qH
URL:https://vzhm-music.com/event/crafthouse/
LOCATION:Crafthouse\, 5024 Curry Rd\, Pittsburgh\, PA\, 15236\, United States
ATTACH;FMTTYPE=image/jpeg:https://vzhm-music.com/wp-content/uploads/2025/08/IMG_8315.jpg
END:VEVENT
BEGIN:VEVENT
DTSTART;TZID=America/New_York:20250822T190000
DTEND;TZID=America/New_York:20250822T210000
DTSTAMP:20260421T083608
CREATED:20250521T230100Z
LAST-MODIFIED:20250714T184439Z
UID:1347-1755889200-1755896400@vzhm-music.com
SUMMARY:Grass Roots Band Jam
DESCRIPTION:Band Jam Ticket Link…\n\nhttps://fb.me/e/ibAOntl8z?mibextid=wwXIfr\n\nEvent Page Link..\nhttps://facebook.com/events/s/the-band-jam-grass-roots-music/974331567530419/
URL:https://vzhm-music.com/event/grass-roots-band-jam/
LOCATION:Coopers Lake Campground\, 205 Currie Rd\, Slippery Rock\, PA\, 16057
ATTACH;FMTTYPE=image/jpeg:https://vzhm-music.com/wp-content/uploads/2025/05/IMG_4949.jpg
END:VEVENT
END:VCALENDAR